BEGIN:VCALENDAR
VERSION:2.0
PRODID:-//The Society of Italian Studies - ECPv6.15.13//NONSGML v1.0//EN
CALSCALE:GREGORIAN
METHOD:PUBLISH
X-WR-CALNAME:The Society of Italian Studies
X-ORIGINAL-URL:https://italianstudies.org.uk
X-WR-CALDESC:Events for The Society of Italian Studies
REFRESH-INTERVAL;VALUE=DURATION:PT1H
X-Robots-Tag:noindex
X-PUBLISHED-TTL:PT1H
BEGIN:VTIMEZONE
TZID:Europe/London
BEGIN:DAYLIGHT
TZOFFSETFROM:+0000
TZOFFSETTO:+0100
TZNAME:BST
DTSTART:20180325T010000
END:DAYLIGHT
BEGIN:STANDARD
TZOFFSETFROM:+0100
TZOFFSETTO:+0000
TZNAME:GMT
DTSTART:20181028T010000
END:STANDARD
BEGIN:DAYLIGHT
TZOFFSETFROM:+0000
TZOFFSETTO:+0100
TZNAME:BST
DTSTART:20190331T010000
END:DAYLIGHT
BEGIN:STANDARD
TZOFFSETFROM:+0100
TZOFFSETTO:+0000
TZNAME:GMT
DTSTART:20191027T010000
END:STANDARD
BEGIN:DAYLIGHT
TZOFFSETFROM:+0000
TZOFFSETTO:+0100
TZNAME:BST
DTSTART:20200329T010000
END:DAYLIGHT
BEGIN:STANDARD
TZOFFSETFROM:+0100
TZOFFSETTO:+0000
TZNAME:GMT
DTSTART:20201025T010000
END:STANDARD
END:VTIMEZONE
BEGIN:VEVENT
DTSTART;TZID=Europe/London:20190327T140000
DTEND;TZID=Europe/London:20190327T173000
DTSTAMP:20260425T033903
CREATED:20190322T124139Z
LAST-MODIFIED:20190322T124139Z
UID:3959-1553695200-1553707800@italianstudies.org.uk
SUMMARY:Readers and Reading in the Book: the Imaginary and the Material
DESCRIPTION:Readers and Reading in the Book: the Imaginary and the Material\nThe event will focus on how the practices and experiences of reading have been represented in literary texts over the centuries. \nSpeakers include: Federica Pich\, Giovanna Rizzarelli\, Rhiannon Daniels\,  Guyda Armstrong and  Karin Littau. Please find the description of the event and details about the programme and the registration
URL:https://italianstudies.org.uk/event/readers-and-reading-in-the-book-the-imaginary-and-the-material/
END:VEVENT
END:VCALENDAR