BEGIN:VCALENDAR
VERSION:2.0
PRODID:-//The Society of Italian Studies - ECPv6.15.13//NONSGML v1.0//EN
CALSCALE:GREGORIAN
METHOD:PUBLISH
X-ORIGINAL-URL:https://italianstudies.org.uk
X-WR-CALDESC:Events for The Society of Italian Studies
REFRESH-INTERVAL;VALUE=DURATION:PT1H
X-Robots-Tag:noindex
X-PUBLISHED-TTL:PT1H
BEGIN:VTIMEZONE
TZID:Europe/London
BEGIN:DAYLIGHT
TZOFFSETFROM:+0000
TZOFFSETTO:+0100
TZNAME:BST
DTSTART:20190331T010000
END:DAYLIGHT
BEGIN:STANDARD
TZOFFSETFROM:+0100
TZOFFSETTO:+0000
TZNAME:GMT
DTSTART:20191027T010000
END:STANDARD
BEGIN:DAYLIGHT
TZOFFSETFROM:+0000
TZOFFSETTO:+0100
TZNAME:BST
DTSTART:20200329T010000
END:DAYLIGHT
BEGIN:STANDARD
TZOFFSETFROM:+0100
TZOFFSETTO:+0000
TZNAME:GMT
DTSTART:20201025T010000
END:STANDARD
BEGIN:DAYLIGHT
TZOFFSETFROM:+0000
TZOFFSETTO:+0100
TZNAME:BST
DTSTART:20210328T010000
END:DAYLIGHT
BEGIN:STANDARD
TZOFFSETFROM:+0100
TZOFFSETTO:+0000
TZNAME:GMT
DTSTART:20211031T010000
END:STANDARD
END:VTIMEZONE
BEGIN:VEVENT
DTSTART;VALUE=DATE:20200910
DTEND;VALUE=DATE:20200912
DTSTAMP:20260423T232135
CREATED:20200109T172021Z
LAST-MODIFIED:20200408T092102Z
UID:4116-1599696000-1599868799@italianstudies.org.uk
SUMMARY:SIS Themed Conference 2020: Visions of Italy
DESCRIPTION:Society for Italian Studies Themed Conference \nVisions of Italy \nUniversity of Kent\, 10-11 September 2020 \n  \nPopular conceptions of Italy typically revolve around the visual: the beauty of its landscapes and its historic legacy of fine art and architecture. This dates back at least to the medieval period\, and the innovations of artists such as Giotto and visionary writers like Dante. In the twentieth century\, it is in the fields of cinema\, photography\, art\, fashion and design that Italy has had the most marked impact around the world. Concurrently\, Italy has also been a favoured subject of visual representation: from Grand Tour photographic albums to mainstream Hollywood films set in Italy\, there is no lack of foreign representations of the country and its inhabitants. \n  \nThis conference will explore Italian visual culture\, Italy’s relationship with the visual and the way in which Italy and Italians have been depicted. It aims to further a dialogue among scholars in the field of Italian studies who deal with visual culture in the broadest sense\, from studies of visual arts and objects to literary works characterized by an emphasis on the visual. \n  \nWe welcome proposals for papers or pre-constituted panels (of three papers) on topics such as: \n\nCinema and photography;\nVisual arts of all eras\, from Medieval and Rennaissance to contemporary art;\nFashion and design;\nAdvertising and visual culture;\nIntermediality and cross-media representation;\nVisual representations of Italians and Italian culture abroad (e.g. Italian-Americans\, the diaspora\, etc);\nVisual representations of migration to and within Italy;\nTranscultural representations of Italy and Italians;\nEkphrasis and visual culture in Italian literature;\nVisualisation within\, and of\, the work of medieval and early modern authors (e.g. Dante\, Boccaccio\, Petrarca).\n\n  \nKeynote Speaker: Prof. Stephen Gundle \n  \nPapers may be delivered in either English or Italian \n  \nFor individual papers\, please send a 200-word abstract and a 100-word bio. \nFor panels\, please send a 200-word rationale plus 100-word abstracts and 100-word bios for each paper in the panel. In putting together a panel\, you should take into account the SIS policy on gender equality (copied at the foot of this CFP). \nProposals should be emailed to both conference organisers (a.p.marlow-mann@kent.ac.uk  and a.sforza-tarabochia@kent.ac.uk) by 31st January 2020. \n  \nSIS Gender Policy \nConferences and events organised by the SIS will respect the following norms: \n\nas far as possible there will be a balance in the number of male/female speakers and session chairs;\nsingle-sex panels will be avoided wherever possible;\npanel chairs will be briefed on how to ensure inclusive and balanced discussion;\nwhere there is more than one keynote speaker efforts will be made to ensure gender balance.\n\n  \nAlex and Alvise
URL:https://italianstudies.org.uk/event/society-for-italian-studies-themed-conference/
LOCATION:University of Kent\, Giles Ln\, Canterbury\, CT2 7NZ\, United Kingdom
CATEGORIES:Conferences,News
ATTACH;FMTTYPE=image/jpeg:https://italianstudies.org.uk/wp-content/uploads/2020/01/ddivorzio-allitaliana_SIS-themed-conference-2020.jpg
END:VEVENT
END:VCALENDAR