BEGIN:VCALENDAR
VERSION:2.0
PRODID:-//The Society of Italian Studies - ECPv6.15.13//NONSGML v1.0//EN
CALSCALE:GREGORIAN
METHOD:PUBLISH
X-WR-CALNAME:The Society of Italian Studies
X-ORIGINAL-URL:https://italianstudies.org.uk
X-WR-CALDESC:Events for The Society of Italian Studies
REFRESH-INTERVAL;VALUE=DURATION:PT1H
X-Robots-Tag:noindex
X-PUBLISHED-TTL:PT1H
BEGIN:VTIMEZONE
TZID:Europe/London
BEGIN:DAYLIGHT
TZOFFSETFROM:+0000
TZOFFSETTO:+0100
TZNAME:BST
DTSTART:20190331T010000
END:DAYLIGHT
BEGIN:STANDARD
TZOFFSETFROM:+0100
TZOFFSETTO:+0000
TZNAME:GMT
DTSTART:20191027T010000
END:STANDARD
BEGIN:DAYLIGHT
TZOFFSETFROM:+0000
TZOFFSETTO:+0100
TZNAME:BST
DTSTART:20200329T010000
END:DAYLIGHT
BEGIN:STANDARD
TZOFFSETFROM:+0100
TZOFFSETTO:+0000
TZNAME:GMT
DTSTART:20201025T010000
END:STANDARD
BEGIN:DAYLIGHT
TZOFFSETFROM:+0000
TZOFFSETTO:+0100
TZNAME:BST
DTSTART:20210328T010000
END:DAYLIGHT
BEGIN:STANDARD
TZOFFSETFROM:+0100
TZOFFSETTO:+0000
TZNAME:GMT
DTSTART:20211031T010000
END:STANDARD
END:VTIMEZONE
BEGIN:VEVENT
DTSTART;VALUE=DATE:20200915
DTEND;VALUE=DATE:20200916
DTSTAMP:20260423T232127
CREATED:20200712T104059Z
LAST-MODIFIED:20200712T104059Z
UID:4278-1600128000-1600214399@italianstudies.org.uk
SUMMARY:PRISMI new series - CALL FOR PAPERS
DESCRIPTION:CALL FOR PAPERS PER \nPRISMI nouvelle série\, \nrevue du Département d’Italien de l’Université de Lorraine \nDirigée par Elsa Chaarani et Giuseppe Sangirardi \n\n 2 (2021) et n. 3 (2022)\n\nA partire dal 2020\, PRISMI\, rivista di studi italianistici fondata nel 1996 da Bruno Toppan e legata al Dipartimento di Italiano dell’Université de Lorraine\, sarà oggetto di una doppia pubblicazione\, in volume cartaceo e online\, sul portale dell’editore Chemins de tr@verse (una richiesta è in corso per l’accesso al portale open edition). \nParallelamente\, PRISMI si rinnova nella sua organizzazione interna e nella sua struttura per meglio inserirsi nel paesaggio universitario attuale e allinearsi agli standard scientifici oggi riconosciuti. \n  \nI fascicoli\, pubblicati con cadenza annuale\, comporteranno tre rubriche (due almeno per numero)\, per meglio alimentare e valorizzare il carattere tradizionalmente pluridisciplinare della rivista\, facendo ampio spazio alla letteratura italiana\, ma promuovendo ugualmente l’apertura dell’orizzonte in direzione di una comparatistica intesa in senso largo e degli studi storici e culturali. \n\nInterprétation de textes et de corpus : questa sezione ospiterà studi aventi per oggetto la letteratura italiana\, che si tratti di analisi di testi singoli o di inchieste su tematiche più o meno estese.\nInterlangues : (letteratura comparata\, intertestualità\, traduzione) : questa sezione ospiterà studi sulla lingua e sulla letteratura italiane in relazione con altre lingue e letterature del presente o del passato\, nella prospettiva della traduttologia\, della letteratura comparata\, della filologia romanza\, della filologia tout court.\nArcimboldo: questa sezione ospiterà studi che esplorino le diverse sfaccettature della storia e della cultura italiana\, dal teatro all’opera\, dalla storia dell’arte al cinema\, dalla sociologia allo sport\, dalla musica alla filosofia o alla politica.\n\nSommario del n. 1\, la cui pubblicazione è attesa per la fine del 2020 \nInterprétation de textes et de corpus  \nPaolo Orvieto\, Lettura allegorica del Morgante \nMatteo Residori\, « Non si perde servigio mai nessuno ». Gratitudine\, amicizia e giustizia nel Morgante \nPierre Musitelli\, Langue\, dramaturgie et lectures politiques des opéras de Verdi (1842-1849) \nInterlangues \nFederico Bertoni\, La donna moltiplicata. Frammento di um discorso amoroso \nArcimboldo \nGilles Bertrand\, Versailles en Italie. Usages et destin d’une référence pour les Français voyageant dans la Péninsule au XVIIIe siècle \nRaffaele Ruggiero\, Giambattista Vico\, un filosofo in tipografia \nSalvatore Settis\, Tre inquietudini di Antonio Tabucchi: la pátria\, la politica\, il tempo. \nPer i numeri 2 e 3 si può inviare all’indirizzo della redazione : \nlis-revue-prismi@univ-lorraine.fr \n\nUna proposta di articolo (un titolo e una descrizione del contenuto tra dieci e venti righe) per il n. 2 (uscita nel 2021) al più tardi il 15 settembre 2020 (se la proposta è accettata\, l’articolo dovrà essere consegnato al più tardi il 30 ottobre)\nUna proposta di articolo (un titolo e una descrizione del contenuto tra dieci e venti righe) per il n. 3 (uscita nel 2022) al più tardi il 31 gennaio 2021 (se la proposta è accettata\, l’articolo dovrà essere consegnato al più tardi il 30 aprile)\n\nLe lingue accettate sono il francese\, l’italiano e l’inglese \n  \nAPPEL A CONTRIBUTIONS POUR \nPRISMI nouvelle série\, \nrevue du Département d’Italien de l’Université de Lorraine \nDirigée par Elsa Chaarani et Giuseppe Sangirardi \n\n 2 (2021) et n. 3 (2022)\n\nA compter de 2020\, PRISMI\, revue d’études italiennes fondée en 1996 par Bruno Toppan et émanant de la section d’Italien de l’Université de Lorraine\, fera l’objet d’une double publication\, en volume papier et désormais aussi en ligne\, sur le portail de l’éditeur Chemins de tr@verse (une demande est en cours pour la mise en ligne sur le portail open edition). \nParallèlement\, PRISMI fait peau neuve dans son organisation interne et sa structure pour mieux s’accorder avec le paysage universitaire actuel et s’aligner sur les standards scientifiques aujourd’hui reconnus. \nLes parutions régulières\, à cadence annuelle\, comporteront désormais trois rubriques (dont deux au moins par numéro)\, pour mieux nourrir et valoriser le caractère traditionnellement pluridisciplinaire de la revue\, en accordant une large place à la littérature italienne mais promouvant également l’ouverture de l’horizon en direction d’un comparatisme compris dans le sens le plus large et des études historiques et culturelles. \n\nInterprétation de textes et de corpus : cette section hébergera des travaux ayant pour objet la littérature italienne\, qu’il s’agisse d’analyse de textes singuliers ou d’enquêtes sur des thématiques plus ou moins étendues\nInterlangues : (littérature comparée\, intertextualités\, traduction) : cette section hébergera des travaux portant sur la langue et la littérature italiennes en relation avec d’autres langues et littératures du présent ou du passé\, dans les optiques propres à la traductologie\, la littérature comparée\, la philologie romane\, la philologie tout court.\nArcimboldo: cette section hébergera des travaux explorant l’ensemble des facettes de l’histoire et de la culture italiennes\, du théâtre à l’opéra\, de l’histoire de l’art au cinéma\, de la sociologie au sport\, de la musique à la philosophie ou à la politique.\n\n  \nSommaire du n. 1\, à paraître fin 2020 \nInterprétation de textes et de corpus  \nPaolo Orvieto\, Lettura allegorica del Morgante \nMatteo Residori\, « Non si perde servigio mai nessuno ». Gratitudine\, amicizia e giustizia nel Morgante \nPierre Musitelli\, Langue\, dramaturgie et lectures politiques des opéras de Verdi (1842-1849) \nInterlangues \nFederico Bertoni\, La donna moltiplicata. Frammento di um discorso amoroso \nArcimboldo \nGilles Bertrand\, Versailles en Italie. Usages et destin d’une référence pour les Français voyageant dans la Péninsule au XVIIIe siècle \nRaffaele Ruggiero\, Giambattista Vico\, un filosofo in tipografia \nSalvatore Settis\, Tre inquietudini di Antonio Tabucchi: la pátria\, la politica\, il tempo.  \nPour les números 2 et 3 vous pouvez envoyer à l’adresse de la rédaction : \nlis-revue-prismi@univ-lorraine.fr \n\nUne proposition d’article (un titre et dix à vingt lignes décrivant le contenu) pour le n. 2 (parution en 2021) au plus tard le 15 septembre 2020 (si votre proposition est retenue\, l’article sera à remettre pour le 30 octobre au plus tard)\nUne proposition d’article (un titre et dix à vingt lignes décrivant le contenu) pour le n. 3 (parution en 2022) au plus tard le 31 janvier 2021 (si votre proposition est retenue\, l’article sera à remettre le 30 avril au plus tard).\n\nLes langues acceptées sont le français\, l’italien et l’anglais. \n  \n  \n  \n  \n  \n  \n  \n  \n  \n  \n  \n  \n  \n 
URL:https://italianstudies.org.uk/event/prismi-new-series-call-for-papers/
CATEGORIES:News
END:VEVENT
END:VCALENDAR