BEGIN:VCALENDAR
VERSION:2.0
PRODID:-//The Society of Italian Studies - ECPv6.15.13//NONSGML v1.0//EN
CALSCALE:GREGORIAN
METHOD:PUBLISH
X-WR-CALNAME:The Society of Italian Studies
X-ORIGINAL-URL:https://italianstudies.org.uk
X-WR-CALDESC:Events for The Society of Italian Studies
REFRESH-INTERVAL;VALUE=DURATION:PT1H
X-Robots-Tag:noindex
X-PUBLISHED-TTL:PT1H
BEGIN:VTIMEZONE
TZID:Europe/London
BEGIN:DAYLIGHT
TZOFFSETFROM:+0000
TZOFFSETTO:+0100
TZNAME:BST
DTSTART:20210328T010000
END:DAYLIGHT
BEGIN:STANDARD
TZOFFSETFROM:+0100
TZOFFSETTO:+0000
TZNAME:GMT
DTSTART:20211031T010000
END:STANDARD
BEGIN:DAYLIGHT
TZOFFSETFROM:+0000
TZOFFSETTO:+0100
TZNAME:BST
DTSTART:20220327T010000
END:DAYLIGHT
BEGIN:STANDARD
TZOFFSETFROM:+0100
TZOFFSETTO:+0000
TZNAME:GMT
DTSTART:20221030T010000
END:STANDARD
BEGIN:DAYLIGHT
TZOFFSETFROM:+0000
TZOFFSETTO:+0100
TZNAME:BST
DTSTART:20230326T010000
END:DAYLIGHT
BEGIN:STANDARD
TZOFFSETFROM:+0100
TZOFFSETTO:+0000
TZNAME:GMT
DTSTART:20231029T010000
END:STANDARD
END:VTIMEZONE
BEGIN:VEVENT
DTSTART;VALUE=DATE:20220629
DTEND;VALUE=DATE:20220701
DTSTAMP:20260422T124730
CREATED:20220107T165119Z
LAST-MODIFIED:20220107T185413Z
UID:4700-1656460800-1656633599@italianstudies.org.uk
SUMMARY:"Visibili rifatti": Early Modern Voices in the Contemporary World
DESCRIPTION:  \n“Visibili rifatti”: Early Modern Voices in the Contemporary World  aims to explore the revolutionary implications of the humanist enterprise in today’s society\, fostering reflections on the art of adaptation as interpretation and remediation. \nThe conference is organised by Dr Ambra Moroncini (Sussex)\, Dr Aaron Kahn (Sussex)\, and Dr Daragh O’Connell (Cork)\, in collaboration with Prof. Peter Boxall (Sussex) and Prof. Brian Cummings (York). \nYou can find here the full programme.
URL:https://italianstudies.org.uk/event/visibili-rifatti-early-modern-voices-in-the-contemporary-world/
LOCATION:Universty of Sussex\, United Kingdom
CATEGORIES:Conferences
ATTACH;FMTTYPE=image/png:https://italianstudies.org.uk/wp-content/uploads/2022/01/Screenshot-2022-01-07-at-18.47.52.png
END:VEVENT
END:VCALENDAR