BEGIN:VCALENDAR
VERSION:2.0
PRODID:-//The Society of Italian Studies - ECPv6.15.13//NONSGML v1.0//EN
CALSCALE:GREGORIAN
METHOD:PUBLISH
X-WR-CALNAME:The Society of Italian Studies
X-ORIGINAL-URL:https://italianstudies.org.uk
X-WR-CALDESC:Events for The Society of Italian Studies
REFRESH-INTERVAL;VALUE=DURATION:PT1H
X-Robots-Tag:noindex
X-PUBLISHED-TTL:PT1H
BEGIN:VTIMEZONE
TZID:Europe/London
BEGIN:DAYLIGHT
TZOFFSETFROM:+0000
TZOFFSETTO:+0100
TZNAME:BST
DTSTART:20200329T010000
END:DAYLIGHT
BEGIN:STANDARD
TZOFFSETFROM:+0100
TZOFFSETTO:+0000
TZNAME:GMT
DTSTART:20201025T010000
END:STANDARD
BEGIN:DAYLIGHT
TZOFFSETFROM:+0000
TZOFFSETTO:+0100
TZNAME:BST
DTSTART:20210328T010000
END:DAYLIGHT
BEGIN:STANDARD
TZOFFSETFROM:+0100
TZOFFSETTO:+0000
TZNAME:GMT
DTSTART:20211031T010000
END:STANDARD
BEGIN:DAYLIGHT
TZOFFSETFROM:+0000
TZOFFSETTO:+0100
TZNAME:BST
DTSTART:20220327T010000
END:DAYLIGHT
BEGIN:STANDARD
TZOFFSETFROM:+0100
TZOFFSETTO:+0000
TZNAME:GMT
DTSTART:20221030T010000
END:STANDARD
BEGIN:DAYLIGHT
TZOFFSETFROM:+0000
TZOFFSETTO:+0100
TZNAME:BST
DTSTART:20230326T010000
END:DAYLIGHT
BEGIN:STANDARD
TZOFFSETFROM:+0100
TZOFFSETTO:+0000
TZNAME:GMT
DTSTART:20231029T010000
END:STANDARD
BEGIN:DAYLIGHT
TZOFFSETFROM:+0000
TZOFFSETTO:+0100
TZNAME:BST
DTSTART:20240331T010000
END:DAYLIGHT
BEGIN:STANDARD
TZOFFSETFROM:+0100
TZOFFSETTO:+0000
TZNAME:GMT
DTSTART:20241027T010000
END:STANDARD
BEGIN:DAYLIGHT
TZOFFSETFROM:+0000
TZOFFSETTO:+0100
TZNAME:BST
DTSTART:20250330T010000
END:DAYLIGHT
BEGIN:STANDARD
TZOFFSETFROM:+0100
TZOFFSETTO:+0000
TZNAME:GMT
DTSTART:20251026T010000
END:STANDARD
BEGIN:DAYLIGHT
TZOFFSETFROM:+0000
TZOFFSETTO:+0100
TZNAME:BST
DTSTART:20260329T010000
END:DAYLIGHT
BEGIN:STANDARD
TZOFFSETFROM:+0100
TZOFFSETTO:+0000
TZNAME:GMT
DTSTART:20261025T010000
END:STANDARD
BEGIN:DAYLIGHT
TZOFFSETFROM:+0000
TZOFFSETTO:+0100
TZNAME:BST
DTSTART:20270328T010000
END:DAYLIGHT
BEGIN:STANDARD
TZOFFSETFROM:+0100
TZOFFSETTO:+0000
TZNAME:GMT
DTSTART:20271031T010000
END:STANDARD
END:VTIMEZONE
BEGIN:VEVENT
DTSTART;TZID=Europe/London:20210116T133000
DTEND;TZID=Europe/London:20210116T160000
DTSTAMP:20260424T172328
CREATED:20210114T234439Z
LAST-MODIFIED:20210114T235114Z
UID:4383-1610803800-1610812800@italianstudies.org.uk
SUMMARY:Annual General Meeting 2021
DESCRIPTION:The Society for Italian Studies is very pleased to invite you to the next Annual General Meeting\, which will take place online on Saturday 16th January at 1:30pm\, until around 4pm. The AGM will take 45 minutes and\, after a short break\, we will then move on to the afternoon discussion. As always\, the meeting is an important opportunity for the Italian Studies community to discuss the major issues that are affecting our discipline. So this year our afternoon session will be devoted to addressing issues of equality\, diversity and inclusion in Italian Studies. \nTo join the meeting\, please use the following link and/or credentials: \nhttps://us02web.zoom.us/j/83793076505?pwd=Q1E4U1d2Q3JnYWl2Sk4wN1RWaHlZUT09 \nMeeting ID: 837 9307 6505 \nPasscode: 0WUrYX \n 
URL:https://italianstudies.org.uk/event/annual-general-meeting-2021/
CATEGORIES:News
ATTACH;FMTTYPE=image/jpeg:https://italianstudies.org.uk/wp-content/uploads/2021/01/Annual-General-Meeting.jpg
END:VEVENT
BEGIN:VEVENT
DTSTART;TZID=Europe/London:20251103T043000
DTEND;TZID=Europe/London:20251103T180000
DTSTAMP:20260424T172328
CREATED:20251031T115523Z
LAST-MODIFIED:20251031T115523Z
UID:5717-1762144200-1762192800@italianstudies.org.uk
SUMMARY:NILI-UK Event: Book Presentation 'Complete Italian'
DESCRIPTION:Organised by NILI – Network of Teachers of Italian in the United Kingdom\, this event will be a workshop/presentation of the book Teach Yourself Complete Italian\, a self-study Italian language textbook for learners of Italian as a foreign language\, written by Elena Borelli and Giulia Baronti.\n\nDuring the event\, the following topics will be discussed:\n\n\n\nHow to write an Italian language textbook\, particularly for self-learners\n\n\nHow to work with a publisher during the writing process\n\n\nHow to present culture in a respectful\, authentic\, and engaging way for the self-learner\n\n\nHow to incorporate inclusive language and pedagogy into this type of textbook.\n\n\n\nTo sign up and receive the link\, please complete the registration form here
URL:https://italianstudies.org.uk/event/nili-uk-event-book-presentation-complete-italian/
LOCATION:Online
CATEGORIES:Conferences,News
ATTACH;FMTTYPE=image/avif:https://italianstudies.org.uk/wp-content/uploads/2025/10/Nili-uk.avif
END:VEVENT
BEGIN:VEVENT
DTSTART;TZID=Europe/London:20251120T133000
DTEND;TZID=Europe/London:20251120T153000
DTSTAMP:20260424T172328
CREATED:20251117T153914Z
LAST-MODIFIED:20251117T153914Z
UID:5758-1763645400-1763652600@italianstudies.org.uk
SUMMARY:“Goat Herding in Aspromonte” – SIS Networking Talk at Edinburgh by Aurora Moxon (Cork)
DESCRIPTION:As part of the SIS Networking Scheme\, Dr Aurora Moxon (University College Cork) will be presenting her research at Edinburgh with the support of the Society. The talk will be delivered in hybridg format on the 20th of November\, 1.30 pm. \nFor those able to join in person\, the talk will take place at: 50 George Square\, Project Room\, Edinburgh EH8 9LH. \nFor those who prefer to join online\, here is the Teams link: \nJoin the meeting now\nMeeting ID: 311 080 184 466 2\nPasscode: 6js3TK3c\nThe session will be recorded\, so if the date and time don’t suit\, you’ll still be able to catch up later. \nFurther details on this talk here.
URL:https://italianstudies.org.uk/event/goat-herding-in-aspromonte-sis-networking-talk-at-edinburgh-by-aurora-moxon-cork/
LOCATION:University of Edinburgh
CATEGORIES:Conferences,News
ATTACH;FMTTYPE=image/jpeg:https://italianstudies.org.uk/wp-content/uploads/2025/11/Goatherding-Talk-Poster-Aurora-Moxon.jpg
END:VEVENT
BEGIN:VEVENT
DTSTART;VALUE=DATE:20251205
DTEND;VALUE=DATE:20251206
DTSTAMP:20260424T172328
CREATED:20251117T155322Z
LAST-MODIFIED:20251117T155322Z
UID:5765-1764892800-1764979199@italianstudies.org.uk
SUMMARY:SIS PG Colloquium at Cambridge: ‘Italian Literature and Culture through a Comparative Lens: Transnational and Transhistorical Networks’
DESCRIPTION:The Society for Italian Studies is delighted to invite you to our 2025 Postgraduate Colloquium. This year the Colloquium will take placen at the University of Cambridge on the 5th of December. See full programme and further details here.
URL:https://italianstudies.org.uk/event/sis-pg-colloquium-at-cambridge-italian-literature-and-culture-through-a-comparative-lens-transnational-and-transhistorical-networks/
LOCATION:University of Cambridge\, Alison Richard Building\, Cambridge\, United Kingdom
CATEGORIES:Conferences,News
ATTACH;FMTTYPE=image/png:https://italianstudies.org.uk/wp-content/uploads/2025/11/1.png
END:VEVENT
BEGIN:VEVENT
DTSTART;TZID=Europe/London:20260117T103000
DTEND;TZID=Europe/London:20260117T160000
DTSTAMP:20260424T172328
CREATED:20251017T115351Z
LAST-MODIFIED:20251017T115534Z
UID:5670-1768645800-1768665600@italianstudies.org.uk
SUMMARY:SIS Annual General Meeting
DESCRIPTION:The AGM of the Society for Italian Studies in the UK and Ireland will take place on Saturday 17 January at the Institute of Languages\, Cultures and Societies\, University of London (Senate House\, Malet Street London)\, 10.30-4pm.\n\n\n\n\nThe morning session (10.30-12.30am) will be dedicated to the AGM and other Society business. The afternoon session (1.30 to 4pm) will be dedicated to research\, with a focus on REF 2029 (including Q&A) and on research impact.\n\n\nSpeakers will include the Chair and Deputy Chair of our REF subpanel\, Prof. Jane Stuart-Smith (University of Glasgow) and Prof. Susan Harrow (University of Bristol).\n\n\nLunch will be provided.
URL:https://italianstudies.org.uk/event/sis-annual-general-meeting-2/
LOCATION:Institute of Languages\, Cultures and Societies\, University of London\, Senate House\, Malet Street\, London\, United Kingdom
CATEGORIES:News
ATTACH;FMTTYPE=image/jpeg:https://italianstudies.org.uk/wp-content/uploads/2024/07/Picture3-1.jpg
END:VEVENT
BEGIN:VEVENT
DTSTART;TZID=Europe/London:20260709T080000
DTEND;TZID=Europe/London:20260711T170000
DTSTAMP:20260424T172328
CREATED:20251022T132027Z
LAST-MODIFIED:20251022T132027Z
UID:5688-1783584000-1783789200@italianstudies.org.uk
SUMMARY:SIS Biennial Conference 2026
DESCRIPTION:On the occasion of the 250th anniversary of Italian and Modern Languages in Higher Education in Ireland\, Trinity College Dublin and University College Dublin are delighted to host the SIS Biennial Conference 2026 on 9-11 July 2026. Please download the CfP from here. \nProposals must be submitted using the appropriate form (Panel submission OR Paper submission) and must be sent as a single attachment (PDF) to sisdublin2026@gmail.com\, by 15 December 2025. Conference participation will be confirmed by April 2026.
URL:https://italianstudies.org.uk/event/sis-biennial-conference-2026/
LOCATION:Dublin\, Dublin\, Ireland
CATEGORIES:Conferences,News
ATTACH;FMTTYPE=image/jpeg:https://italianstudies.org.uk/wp-content/uploads/2024/07/Picture3-1.jpg
END:VEVENT
END:VCALENDAR