BEGIN:VCALENDAR
VERSION:2.0
PRODID:-//The Society of Italian Studies - ECPv6.15.13//NONSGML v1.0//EN
CALSCALE:GREGORIAN
METHOD:PUBLISH
X-WR-CALNAME:The Society of Italian Studies
X-ORIGINAL-URL:https://italianstudies.org.uk
X-WR-CALDESC:Events for The Society of Italian Studies
REFRESH-INTERVAL;VALUE=DURATION:PT1H
X-Robots-Tag:noindex
X-PUBLISHED-TTL:PT1H
BEGIN:VTIMEZONE
TZID:Europe/London
BEGIN:DAYLIGHT
TZOFFSETFROM:+0000
TZOFFSETTO:+0100
TZNAME:BST
DTSTART:20180325T010000
END:DAYLIGHT
BEGIN:STANDARD
TZOFFSETFROM:+0100
TZOFFSETTO:+0000
TZNAME:GMT
DTSTART:20181028T010000
END:STANDARD
BEGIN:DAYLIGHT
TZOFFSETFROM:+0000
TZOFFSETTO:+0100
TZNAME:BST
DTSTART:20190331T010000
END:DAYLIGHT
BEGIN:STANDARD
TZOFFSETFROM:+0100
TZOFFSETTO:+0000
TZNAME:GMT
DTSTART:20191027T010000
END:STANDARD
BEGIN:DAYLIGHT
TZOFFSETFROM:+0000
TZOFFSETTO:+0100
TZNAME:BST
DTSTART:20200329T010000
END:DAYLIGHT
BEGIN:STANDARD
TZOFFSETFROM:+0100
TZOFFSETTO:+0000
TZNAME:GMT
DTSTART:20201025T010000
END:STANDARD
END:VTIMEZONE
BEGIN:VEVENT
DTSTART;TZID=Europe/London:20190306T160000
DTEND;TZID=Europe/London:20190306T190000
DTSTAMP:20260425T121430
CREATED:20190303T170156Z
LAST-MODIFIED:20190305T155339Z
UID:3896-1551888000-1551898800@italianstudies.org.uk
SUMMARY:#italiesinmotion
DESCRIPTION:The 4th edition of ‘Identities in Motion. Legacies and Representations of Mobility in Contemporary Italy‘ will take place at the University of Warwick on Wednesday\, 6 March 2019 (Ramphal Building\, R0.04) the research seminar will provide an opportunity to discuss to what extent translation practices may impact the production and dissemination of alternative and de-centred perspectives to read contemporary Italian and European society and culture. Moreover\, specific attention will be paid to some research projects which make available their outcomes via digital archives\, interactive maps\, and web blogs. \nProgramme\n16.00 – Registration and Welcome \n16.15 – Translating contemporary translingual writers Romeo Fratti (Linguafranca Transnational Literary Agency) in conversation with Mila Milani (Warwick) \n17.15 – The Dialectics of Modernity: Designing Cultural Landscapes with Digital Humanities Francesca Billiani (Manchester) in conversation with Gianmarco Mancosu (Warwick) \n18.15 – Final roundtable: Italian Cultures and Digital Humanities with Bryan Brazeau (Warwick)\, organizers and invited speakers \n  \n19.00 – Wine Reception
URL:https://italianstudies.org.uk/event/italiesinmotion/
ATTACH;FMTTYPE=image/png:https://italianstudies.org.uk/wp-content/uploads/2019/03/Italiesinmotion-banner.png
END:VEVENT
BEGIN:VEVENT
DTSTART;VALUE=DATE:20190302
DTEND;VALUE=DATE:20190303
DTSTAMP:20260425T121430
CREATED:20190211T195412Z
LAST-MODIFIED:20190303T153526Z
UID:3849-1551484800-1551571199@italianstudies.org.uk
SUMMARY:Italian Teachers Day 2019
DESCRIPTION:Italian Teachers Day \nSpeakers \nProfessor Robert Gordon\, University of Cambridge\, Fossoli: POWs\, Primo Levi\, Postwar Utopia \nProfessor Giuliana Pieri\, Royal Holloway\, University of London\, The Making of Modern Italy: Art\, Fashion and Design in Postwar Italy \nDr. Cecilia Brioni\, University of Hull\, Perché Sanremo è Sanremo: Teaching Italian Social History through Popular Music \nDr. Alessio Baldini\, University of Leeds\, The family as metaphor for a nation \nProfessor Guido Bonsaver\, University of Oxford\, Teaching I cento passi \nDr. Daniela La Penna\, University of Reading\, Teaching Marcovaldo \nIan Rodmell (AQA) – The GCSE examination \nCarole Moore (co-author of Amici) \nRound table on teaching grammar and translation (Dr Caterina Sinibaldi\, Nick Roberts\, Dr Julia Barron)
URL:https://italianstudies.org.uk/event/italian-teachers-day-2019/
LOCATION:pin Francis Holland School Regent’s Park\, Ivor Place\,\, London\, NW1 6XR
ATTACH;FMTTYPE=image/png:https://italianstudies.org.uk/wp-content/uploads/2019/02/Screenshot-2019-02-05-at-15.05.01.png
END:VEVENT
END:VCALENDAR