BEGIN:VCALENDAR
VERSION:2.0
PRODID:-//The Society of Italian Studies - ECPv6.15.13//NONSGML v1.0//EN
CALSCALE:GREGORIAN
METHOD:PUBLISH
X-ORIGINAL-URL:https://italianstudies.org.uk
X-WR-CALDESC:Events for The Society of Italian Studies
REFRESH-INTERVAL;VALUE=DURATION:PT1H
X-Robots-Tag:noindex
X-PUBLISHED-TTL:PT1H
BEGIN:VTIMEZONE
TZID:Europe/London
BEGIN:DAYLIGHT
TZOFFSETFROM:+0000
TZOFFSETTO:+0100
TZNAME:BST
DTSTART:20180325T010000
END:DAYLIGHT
BEGIN:STANDARD
TZOFFSETFROM:+0100
TZOFFSETTO:+0000
TZNAME:GMT
DTSTART:20181028T010000
END:STANDARD
BEGIN:DAYLIGHT
TZOFFSETFROM:+0000
TZOFFSETTO:+0100
TZNAME:BST
DTSTART:20190331T010000
END:DAYLIGHT
BEGIN:STANDARD
TZOFFSETFROM:+0100
TZOFFSETTO:+0000
TZNAME:GMT
DTSTART:20191027T010000
END:STANDARD
BEGIN:DAYLIGHT
TZOFFSETFROM:+0000
TZOFFSETTO:+0100
TZNAME:BST
DTSTART:20200329T010000
END:DAYLIGHT
BEGIN:STANDARD
TZOFFSETFROM:+0100
TZOFFSETTO:+0000
TZNAME:GMT
DTSTART:20201025T010000
END:STANDARD
END:VTIMEZONE
BEGIN:VEVENT
DTSTART;VALUE=DATE:20191129
DTEND;VALUE=DATE:20191130
DTSTAMP:20260424T131618
CREATED:20190423T230345Z
LAST-MODIFIED:20190423T230345Z
UID:3997-1574985600-1575071999@italianstudies.org.uk
SUMMARY:SIS PG Colloquium 2019
DESCRIPTION:The next Postgraduate Colloquium  ‘Minorities Report. Italian Culture\, Facing Otherness’ \nwill be held on 29 November 2019 at the University of Durham. \nThe Colloquium will provide an opportunity for postgraduate students to discuss the extent to which multi-vocality has had an impact on Italian Studies so far\, the direction in which our disciplinary field is moving and its role in an ever-changing national and global context. \nProf Loredana Polezzi (Cardiff University)\, an expert in the fields of translation studies\, comparative literature\, and history of travel and migration\, will deliver a keynote lecture in the morning. She will propose an intersectional approach to the concept of minority intermingled with the experience of feminine migration. In the afternoon\, Dr Guido Furci (Durham University – Sorbonne Nouvelle)\, with his strong knowledge of minorities’ voices and juridical statuses\, will explore forms of ‘indirect witnessing’ and ‘intrusive memory’ in the context of Italian contemporary literature. \n 
URL:https://italianstudies.org.uk/event/sis-pg-colloquium-2019/
LOCATION:University of Durham\, United Kingdom
CATEGORIES:Conferences
ATTACH;FMTTYPE=image/jpeg:https://italianstudies.org.uk/wp-content/uploads/2019/04/SIS_PG_conference.jpg
END:VEVENT
END:VCALENDAR